BEGIN:VCALENDAR
VERSION:2.0
PRODID:-//一般社団法人日本オーガニックレストラン協会 - ECPv5.7.1//NONSGML v1.0//EN
CALSCALE:GREGORIAN
METHOD:PUBLISH
X-WR-CALNAME:一般社団法人日本オーガニックレストラン協会
X-ORIGINAL-URL:https://organic-restaurant.jp/wp
X-WR-CALDESC:一般社団法人日本オーガニックレストラン協会 のイベント
BEGIN:VTIMEZONE
TZID:Asia/Tokyo
BEGIN:STANDARD
TZOFFSETFROM:+0900
TZOFFSETTO:+0900
TZNAME:JST
DTSTART:20240101T000000
END:STANDARD
END:VTIMEZONE
BEGIN:VEVENT
DTSTART;TZID=Asia/Tokyo:20240407T103000
DTEND;TZID=Asia/Tokyo:20240407T120000
DTSTAMP:20260423T204530
CREATED:20240312T114126Z
LAST-MODIFIED:20240415T002006Z
UID:16314-1712485800-1712491200@organic-restaurant.jp
SUMMARY:からだキレイごはん オンラインセミナー
DESCRIPTION:“からだがもっと、元気に、キレイになる！”「からだキレイごはん」オンラインセミナー～特別な道具も、難しい技術も必要ありません～　　 \n\n\n\n・お肌のトラブルで困っている方・便秘や消化の悩みがある方・脂肪燃焼したい（スリムになりたい）方・風邪を引いた時の食べ方を知りたい方・ヘトヘトに疲れて帰ってきた日、とりあえず何か食べられるものを家で作りたいと思っている方・レパートリーが少なく献立に困っている方・効率よく料理をするためのヒントが欲しい方　・食に関する知識をつけて伝えたい方 \n・3カ月で自分の食環境が変わりからだキレイに変わる食べ方がわかります。・未公開の最新「からだキレイごはん」メニューを学んだその日からつくれるようになります。・体調に合わせた栄養素の組み合わせ方がわかります。・料理をすることが楽しくなります。　 \n \n家庭料理システム化インストラクター（一般社団法人日本オーガニックレストラン協会公認）が、オンラインzoomによるセミナー形式で開催します。 \n  \nインストラクター 福島美雪　　プロフィールオプティマルクッキングマスタ一/ 家庭料理システム化インストラクター（ー般社団法人日本オーガニックレストラン協会公認）40歳を目前に、JORA（日本オーガニックレストラン協会）のオプティマルクッキングアカデミーで学ぶ。最新の栄養学に則った食べ方や、食材を活かす調理法を習得し、実践を継続することで 花粉症の改善など大きな体調の変化を得て、食べるものでカラダが造られていることを実感する。年齢に関係なく、体調が良く、気持ちも前向きになり イキイキと生活ができるのは、心身ともに健康であるから。 もっと沢山の人にこのメソッドを知ってもらいたいと思い、講師の資格を取得。講師歴７年、数多くの受講生に寄り添い「システム化」を伝え続けている。 「システム化を知らなかったら料理が苦手なままで、健康ではなかった」と語る。短時間で美味しいオーガニック料理を作る方法を、オプティマルクッキングアカデミーを通して伝えている。　　　　【からだキレイごはん オンラインセミナー】　　■開催日時 ： 4/7(日) 10:30～12:00 　　　　　オンラインzoomによるセミナー形式■受講料 ： 3\,300円　お申し込みは、 ↓下記のボタン↓よりお願いいたします。　　セミナーに申し込む
URL:https://organic-restaurant.jp/wp/event/karadakirei-20240407/
CATEGORIES:特別セミナー
END:VEVENT
END:VCALENDAR