BEGIN:VCALENDAR
VERSION:2.0
PRODID:-//一般社団法人日本オーガニックレストラン協会 - ECPv5.7.1//NONSGML v1.0//EN
CALSCALE:GREGORIAN
METHOD:PUBLISH
X-WR-CALNAME:一般社団法人日本オーガニックレストラン協会
X-ORIGINAL-URL:https://organic-restaurant.jp/wp
X-WR-CALDESC:一般社団法人日本オーガニックレストラン協会 のイベント
BEGIN:VTIMEZONE
TZID:Asia/Tokyo
BEGIN:STANDARD
TZOFFSETFROM:+0900
TZOFFSETTO:+0900
TZNAME:JST
DTSTART:20240101T000000
END:STANDARD
END:VTIMEZONE
BEGIN:VEVENT
DTSTART;TZID=Asia/Tokyo:20240203T140000
DTEND;TZID=Asia/Tokyo:20240203T153000
DTSTAMP:20260423T231004
CREATED:20231230T074539Z
LAST-MODIFIED:20231230T074845Z
UID:15772-1706968800-1706974200@organic-restaurant.jp
SUMMARY:電子書籍出版記念★「免疫力超アップ～その学び~」完全解説セミナー
DESCRIPTION:
URL:https://organic-restaurant.jp/wp/event/meneki-240203/
CATEGORIES:特別セミナー
END:VEVENT
END:VCALENDAR