BEGIN:VCALENDAR
VERSION:2.0
PRODID:-//一般社団法人日本オーガニックレストラン協会 - ECPv5.7.1//NONSGML v1.0//EN
CALSCALE:GREGORIAN
METHOD:PUBLISH
X-WR-CALNAME:一般社団法人日本オーガニックレストラン協会
X-ORIGINAL-URL:https://organic-restaurant.jp/wp
X-WR-CALDESC:一般社団法人日本オーガニックレストラン協会 のイベント
BEGIN:VTIMEZONE
TZID:Asia/Tokyo
BEGIN:STANDARD
TZOFFSETFROM:+0900
TZOFFSETTO:+0900
TZNAME:JST
DTSTART:20230101T000000
END:STANDARD
END:VTIMEZONE
BEGIN:VEVENT
DTSTART;TZID=Asia/Tokyo:20231226T200000
DTEND;TZID=Asia/Tokyo:20231226T213000
DTSTAMP:20260424T022146
CREATED:20231213T062307Z
LAST-MODIFIED:20231213T062525Z
UID:15425-1703620800-1703626200@organic-restaurant.jp
SUMMARY:新次元家庭料理システム化～レシピの無限ループ～体験クッキング編
DESCRIPTION:
URL:https://organic-restaurant.jp/wp/event/system-introductory_231226-2/
CATEGORIES:特別セミナー
END:VEVENT
END:VCALENDAR