BEGIN:VCALENDAR
VERSION:2.0
PRODID:-//一般社団法人日本オーガニックレストラン協会 - ECPv5.7.1//NONSGML v1.0//EN
CALSCALE:GREGORIAN
METHOD:PUBLISH
X-WR-CALNAME:一般社団法人日本オーガニックレストラン協会
X-ORIGINAL-URL:https://organic-restaurant.jp/wp
X-WR-CALDESC:一般社団法人日本オーガニックレストラン協会 のイベント
BEGIN:VTIMEZONE
TZID:Asia/Tokyo
BEGIN:STANDARD
TZOFFSETFROM:+0900
TZOFFSETTO:+0900
TZNAME:JST
DTSTART:20250101T000000
END:STANDARD
END:VTIMEZONE
BEGIN:VEVENT
DTSTART;TZID=Asia/Tokyo:20251108T100000
DTEND;TZID=Asia/Tokyo:20251108T130000
DTSTAMP:20260421T191559
CREATED:20251022T050319Z
LAST-MODIFIED:20251022T050320Z
UID:18074-1762596000-1762606800@organic-restaurant.jp
SUMMARY:家庭料理システム化入門講座
DESCRIPTION:
URL:https://organic-restaurant.jp/wp/event/system-introductory_251108/
CATEGORIES:家庭料理システム化入門講座
END:VEVENT
END:VCALENDAR