BEGIN:VCALENDAR
VERSION:2.0
PRODID:-//一般社団法人日本オーガニックレストラン協会 - ECPv5.7.1//NONSGML v1.0//EN
CALSCALE:GREGORIAN
METHOD:PUBLISH
X-WR-CALNAME:一般社団法人日本オーガニックレストラン協会
X-ORIGINAL-URL:https://organic-restaurant.jp/wp
X-WR-CALDESC:一般社団法人日本オーガニックレストラン協会 のイベント
BEGIN:VTIMEZONE
TZID:Asia/Tokyo
BEGIN:STANDARD
TZOFFSETFROM:+0900
TZOFFSETTO:+0900
TZNAME:JST
DTSTART:20250101T000000
END:STANDARD
END:VTIMEZONE
BEGIN:VEVENT
DTSTART;TZID=Asia/Tokyo:20250201T200000
DTEND;TZID=Asia/Tokyo:20250201T213000
DTSTAMP:20260423T120437
CREATED:20250126T234115Z
LAST-MODIFIED:20250126T234115Z
UID:17372-1738440000-1738445400@organic-restaurant.jp
SUMMARY:～おうちでできるオーガニックレストラン！～ JORA式家庭料理システム化体験セミナー
DESCRIPTION:
URL:https://organic-restaurant.jp/wp/event/taiken250201/
CATEGORIES:体験セミナー
END:VEVENT
END:VCALENDAR