BEGIN:VCALENDAR
VERSION:2.0
PRODID:-//一般社団法人日本オーガニックレストラン協会 - ECPv5.7.1//NONSGML v1.0//EN
CALSCALE:GREGORIAN
METHOD:PUBLISH
X-WR-CALNAME:一般社団法人日本オーガニックレストラン協会
X-ORIGINAL-URL:https://organic-restaurant.jp/wp
X-WR-CALDESC:一般社団法人日本オーガニックレストラン協会 のイベント
BEGIN:VTIMEZONE
TZID:Asia/Tokyo
BEGIN:STANDARD
TZOFFSETFROM:+0900
TZOFFSETTO:+0900
TZNAME:JST
DTSTART:20250101T000000
END:STANDARD
END:VTIMEZONE
BEGIN:VEVENT
DTSTART;TZID=Asia/Tokyo:20250121T103000
DTEND;TZID=Asia/Tokyo:20250121T120000
DTSTAMP:20260423T073103
CREATED:20241222T055022Z
LAST-MODIFIED:20241222T055022Z
UID:17304-1737455400-1737460800@organic-restaurant.jp
SUMMARY:～おうちでできるオーガニックレストラン！～ JORA式家庭料理システム化体験セミナー
DESCRIPTION:
URL:https://organic-restaurant.jp/wp/event/taiken250121/
CATEGORIES:体験セミナー
END:VEVENT
END:VCALENDAR