BEGIN:VCALENDAR
VERSION:2.0
PRODID:-//一般社団法人日本オーガニックレストラン協会 - ECPv5.7.1//NONSGML v1.0//EN
CALSCALE:GREGORIAN
METHOD:PUBLISH
X-WR-CALNAME:一般社団法人日本オーガニックレストラン協会
X-ORIGINAL-URL:https://organic-restaurant.jp/wp
X-WR-CALDESC:一般社団法人日本オーガニックレストラン協会 のイベント
BEGIN:VTIMEZONE
TZID:Asia/Tokyo
BEGIN:STANDARD
TZOFFSETFROM:+0900
TZOFFSETTO:+0900
TZNAME:JST
DTSTART:20240101T000000
END:STANDARD
END:VTIMEZONE
BEGIN:VEVENT
DTSTART;TZID=Asia/Tokyo:20241220T200000
DTEND;TZID=Asia/Tokyo:20241220T213000
DTSTAMP:20260423T122133
CREATED:20241121T025107Z
LAST-MODIFIED:20241121T025107Z
UID:17181-1734724800-1734730200@organic-restaurant.jp
SUMMARY:～おうちでできるオーガニックレストラン！～ JORA式家庭料理システム化体験セミナー
DESCRIPTION:
URL:https://organic-restaurant.jp/wp/event/taiken241220/
CATEGORIES:体験セミナー
END:VEVENT
END:VCALENDAR