BEGIN:VCALENDAR
VERSION:2.0
PRODID:-//一般社団法人日本オーガニックレストラン協会 - ECPv5.7.1//NONSGML v1.0//EN
CALSCALE:GREGORIAN
METHOD:PUBLISH
X-WR-CALNAME:一般社団法人日本オーガニックレストラン協会
X-ORIGINAL-URL:https://organic-restaurant.jp/wp
X-WR-CALDESC:一般社団法人日本オーガニックレストラン協会 のイベント
BEGIN:VTIMEZONE
TZID:Asia/Tokyo
BEGIN:STANDARD
TZOFFSETFROM:+0900
TZOFFSETTO:+0900
TZNAME:JST
DTSTART:20250101T000000
END:STANDARD
END:VTIMEZONE
BEGIN:VEVENT
DTSTART;TZID=Asia/Tokyo:20250625T100000
DTEND;TZID=Asia/Tokyo:20250625T130000
DTSTAMP:20260423T020944
CREATED:20250509T102821Z
LAST-MODIFIED:20250509T102821Z
UID:17671-1750845600-1750856400@organic-restaurant.jp
SUMMARY:家庭料理システム化入門講座
DESCRIPTION:
URL:https://organic-restaurant.jp/wp/event/system-introductory_250625/
CATEGORIES:家庭料理システム化入門講座
END:VEVENT
END:VCALENDAR