BEGIN:VCALENDAR
VERSION:2.0
PRODID:-//一般社団法人日本オーガニックレストラン協会 - ECPv5.7.1//NONSGML v1.0//EN
CALSCALE:GREGORIAN
METHOD:PUBLISH
X-WR-CALNAME:一般社団法人日本オーガニックレストラン協会
X-ORIGINAL-URL:https://organic-restaurant.jp/wp
X-WR-CALDESC:一般社団法人日本オーガニックレストラン協会 のイベント
BEGIN:VTIMEZONE
TZID:Asia/Tokyo
BEGIN:STANDARD
TZOFFSETFROM:+0900
TZOFFSETTO:+0900
TZNAME:JST
DTSTART:20230101T000000
END:STANDARD
END:VTIMEZONE
BEGIN:VEVENT
DTSTART;TZID=Asia/Tokyo:20231125T103000
DTEND;TZID=Asia/Tokyo:20231125T133000
DTSTAMP:20260424T085444
CREATED:20230719T041707Z
LAST-MODIFIED:20230911T061702Z
UID:13751-1700908200-1700919000@organic-restaurant.jp
SUMMARY:家庭料理システム化実践講座６【土曜クラス】
DESCRIPTION:  \n\n\n\n家庭料理システム化実践講座 　第6回目（座学+調理）　2023年11月25日 10:30~13:30 \n講師：福島美雪 \n【日程表】　　実践講座１（座学）　　　  9月  9日(土)実践講座２（座学）　　　  9月23日(土)実践講座３（調理）　　　10月14日(土)実践講座４（調理）　　　10月28日(土)実践講座５（調理）　　　11月11日(土)実践講座６（座学＋調理）11月25日(土) \n時間はいずれも　10:30～13:30　となります \n  \n新規のお申込みはこちら 再履修のお申込みはこちら
URL:https://organic-restaurant.jp/wp/event/system-basic7_231125/
CATEGORIES:家庭料理システム化実践講座
END:VEVENT
END:VCALENDAR