BEGIN:VCALENDAR
VERSION:2.0
PRODID:-//一般社団法人日本オーガニックレストラン協会 - ECPv5.7.1//NONSGML v1.0//EN
CALSCALE:GREGORIAN
METHOD:PUBLISH
X-WR-CALNAME:一般社団法人日本オーガニックレストラン協会
X-ORIGINAL-URL:https://organic-restaurant.jp/wp
X-WR-CALDESC:一般社団法人日本オーガニックレストラン協会 のイベント
BEGIN:VTIMEZONE
TZID:Asia/Tokyo
BEGIN:STANDARD
TZOFFSETFROM:+0900
TZOFFSETTO:+0900
TZNAME:JST
DTSTART:20240101T000000
END:STANDARD
END:VTIMEZONE
BEGIN:VEVENT
DTSTART;TZID=Asia/Tokyo:20240120T103000
DTEND;TZID=Asia/Tokyo:20240120T133000
DTSTAMP:20260424T093248
CREATED:20231030T045412Z
LAST-MODIFIED:20231030T045412Z
UID:14480-1705746600-1705757400@organic-restaurant.jp
SUMMARY:家庭料理システム化実践講座５【週末クラス】
DESCRIPTION:  \n\n\n\n家庭料理システム化実践講座 　第5回目（座学）　2023年1月20日(土) 10:30~13:30 \n講師：福島美雪 \n【日程表】　　 \n実践講座１（座学）　　　11月26日(日)実践講座２（座学）　　　12月  9日(土)実践講座３（調理）　　　12月23日(土)実践講座４（調理）　　　  1月  6日(土)実践講座５（調理）　　　  1月20日(土)実践講座６（座学＋調理）  2月  3日(土) \n時間はいずれも　10:30～13:30　となります \n  \n新規のお申込みはこちら 再履修のお申込みはこちら
URL:https://organic-restaurant.jp/wp/event/system-basic6_240120/
CATEGORIES:家庭料理システム化実践講座
END:VEVENT
END:VCALENDAR