BEGIN:VCALENDAR
VERSION:2.0
PRODID:-//一般社団法人日本オーガニックレストラン協会 - ECPv5.7.1//NONSGML v1.0//EN
CALSCALE:GREGORIAN
METHOD:PUBLISH
X-WR-CALNAME:一般社団法人日本オーガニックレストラン協会
X-ORIGINAL-URL:https://organic-restaurant.jp/wp
X-WR-CALDESC:一般社団法人日本オーガニックレストラン協会 のイベント
BEGIN:VTIMEZONE
TZID:Asia/Tokyo
BEGIN:STANDARD
TZOFFSETFROM:+0900
TZOFFSETTO:+0900
TZNAME:JST
DTSTART:20230101T000000
END:STANDARD
END:VTIMEZONE
BEGIN:VEVENT
DTSTART;TZID=Asia/Tokyo:20231113T103000
DTEND;TZID=Asia/Tokyo:20231113T133000
DTSTAMP:20260424T085442
CREATED:20230719T043250Z
LAST-MODIFIED:20230911T061030Z
UID:13779-1699871400-1699882200@organic-restaurant.jp
SUMMARY:家庭料理システム化実践講座５【平日クラス】
DESCRIPTION:  \n\n\n\n家庭料理システム化実践講座 　第5回目（調理）　2023年11月13日 10:30~13:30 \n講師：福島美雪 \n【日程表】　　 \n実践講座１（座学）　　　  9月11日(月) 実践講座２（座学）　　　  9月25日(月) 実践講座３（調理）　　　10月16日(月) 実践講座４（調理）　　　10月30日(月) 実践講座５（調理）　　　11月13日(月) 実践講座６（座学＋調理）11月27日(月) \n時間はいずれも　10:30～13:30　となります \n  \n新規のお申込みはこちら 再履修のお申込みはこちら
URL:https://organic-restaurant.jp/wp/event/system-basic6_231113/
CATEGORIES:家庭料理システム化実践講座
END:VEVENT
END:VCALENDAR