BEGIN:VCALENDAR
VERSION:2.0
PRODID:-//一般社団法人日本オーガニックレストラン協会 - ECPv5.7.1//NONSGML v1.0//EN
CALSCALE:GREGORIAN
METHOD:PUBLISH
X-WR-CALNAME:一般社団法人日本オーガニックレストラン協会
X-ORIGINAL-URL:https://organic-restaurant.jp/wp
X-WR-CALDESC:一般社団法人日本オーガニックレストラン協会 のイベント
BEGIN:VTIMEZONE
TZID:Asia/Tokyo
BEGIN:STANDARD
TZOFFSETFROM:+0900
TZOFFSETTO:+0900
TZNAME:JST
DTSTART:20230101T000000
END:STANDARD
END:VTIMEZONE
BEGIN:VEVENT
DTSTART;TZID=Asia/Tokyo:20231112T103000
DTEND;TZID=Asia/Tokyo:20231112T133000
DTSTAMP:20260424T102547
CREATED:20230911T060415Z
LAST-MODIFIED:20231110T021026Z
UID:14046-1699785000-1699795800@organic-restaurant.jp
SUMMARY:家庭料理システム化上級講座４
DESCRIPTION:家庭料理システム化上級講座 　第4回目（調理）　１１月１２日（日） 　１０：３０～１３：３０ \n講師：KIYO（南清貴） \n【日程表】　　 \n上級講座１（座学）　　　　　９月１０日（日）　 １０：３０～１３：３０\n上級講座２（座学）　　　　１０月　８日（日） 　１３：００～１６：００\n上級講座３（調理）　　　　１０月２２日（日） 　１３：００～１６：００\n上級講座４（調理）　　　　１１月１２日（日） 　１０：３０～１３：３０\n上級講座５（調理）　　　　１１月２６日（日） 　１０：３０～１３：３０\n上級講座６（座学＋調理）　１２月１６日（土） 　１３：００～１６：００ \n  \n新規のお申込みはこちら 再履修のお申込みはこちら
URL:https://organic-restaurant.jp/wp/event/system-advanced_231112/
CATEGORIES:家庭料理システム化上級講座
END:VEVENT
END:VCALENDAR