BEGIN:VCALENDAR
VERSION:2.0
PRODID:-//一般社団法人日本オーガニックレストラン協会 - ECPv5.7.1//NONSGML v1.0//EN
CALSCALE:GREGORIAN
METHOD:PUBLISH
X-WR-CALNAME:一般社団法人日本オーガニックレストラン協会
X-ORIGINAL-URL:https://organic-restaurant.jp/wp
X-WR-CALDESC:一般社団法人日本オーガニックレストラン協会 のイベント
BEGIN:VTIMEZONE
TZID:Asia/Tokyo
BEGIN:STANDARD
TZOFFSETFROM:+0900
TZOFFSETTO:+0900
TZNAME:JST
DTSTART:20250101T000000
END:STANDARD
END:VTIMEZONE
BEGIN:VEVENT
DTSTART;TZID=Asia/Tokyo:20250206T200000
DTEND;TZID=Asia/Tokyo:20250206T213000
DTSTAMP:20260423T174237
CREATED:20240528T073534Z
LAST-MODIFIED:20240528T073534Z
UID:16613-1738872000-1738877400@organic-restaurant.jp
SUMMARY:季節を感じるからだ*季節に応じた食べ方 25年2月【平日夜クラス】
DESCRIPTION:
URL:https://organic-restaurant.jp/wp/event/seasonsnutrition_250206thu-2/
CATEGORIES:ワークショップ
END:VEVENT
END:VCALENDAR