BEGIN:VCALENDAR
VERSION:2.0
PRODID:-//一般社団法人日本オーガニックレストラン協会 - ECPv5.7.1//NONSGML v1.0//EN
CALSCALE:GREGORIAN
METHOD:PUBLISH
X-WR-CALNAME:一般社団法人日本オーガニックレストラン協会
X-ORIGINAL-URL:https://organic-restaurant.jp/wp
X-WR-CALDESC:一般社団法人日本オーガニックレストラン協会 のイベント
BEGIN:VTIMEZONE
TZID:Asia/Tokyo
BEGIN:STANDARD
TZOFFSETFROM:+0900
TZOFFSETTO:+0900
TZNAME:JST
DTSTART:20240101T000000
END:STANDARD
END:VTIMEZONE
BEGIN:VEVENT
DTSTART;TZID=Asia/Tokyo:20240818T140000
DTEND;TZID=Asia/Tokyo:20240818T153000
DTSTAMP:20260423T163259
CREATED:20240528T070131Z
LAST-MODIFIED:20240528T070311Z
UID:16558-1723989600-1723995000@organic-restaurant.jp
SUMMARY:季節を感じるからだ*季節に応じた食べ方 24年8月【日曜昼クラス】
DESCRIPTION:
URL:https://organic-restaurant.jp/wp/event/seasonsnutrition_240818sun/
CATEGORIES:ワークショップ
END:VEVENT
END:VCALENDAR