BEGIN:VCALENDAR
VERSION:2.0
PRODID:-//一般社団法人日本オーガニックレストラン協会 - ECPv5.7.1//NONSGML v1.0//EN
CALSCALE:GREGORIAN
METHOD:PUBLISH
X-WR-CALNAME:一般社団法人日本オーガニックレストラン協会
X-ORIGINAL-URL:https://organic-restaurant.jp/wp
X-WR-CALDESC:一般社団法人日本オーガニックレストラン協会 のイベント
BEGIN:VTIMEZONE
TZID:Asia/Tokyo
BEGIN:STANDARD
TZOFFSETFROM:+0900
TZOFFSETTO:+0900
TZNAME:JST
DTSTART:20240101T000000
END:STANDARD
END:VTIMEZONE
BEGIN:VEVENT
DTSTART;TZID=Asia/Tokyo:20240606T200000
DTEND;TZID=Asia/Tokyo:20240606T213000
DTSTAMP:20260423T192104
CREATED:20240201T062428Z
LAST-MODIFIED:20240201T062428Z
UID:16086-1717704000-1717709400@organic-restaurant.jp
SUMMARY:季節を感じるからだ*季節に応じた食べ方 24年6月【平日夜クラス】
DESCRIPTION:
URL:https://organic-restaurant.jp/wp/event/seasonsnutrition_240606thu-2/
CATEGORIES:ワークショップ
END:VEVENT
END:VCALENDAR