BEGIN:VCALENDAR
VERSION:2.0
PRODID:-//一般社団法人日本オーガニックレストラン協会 - ECPv5.7.1//NONSGML v1.0//EN
CALSCALE:GREGORIAN
METHOD:PUBLISH
X-WR-CALNAME:一般社団法人日本オーガニックレストラン協会
X-ORIGINAL-URL:https://organic-restaurant.jp/wp
X-WR-CALDESC:一般社団法人日本オーガニックレストラン協会 のイベント
BEGIN:VTIMEZONE
TZID:Asia/Tokyo
BEGIN:STANDARD
TZOFFSETFROM:+0900
TZOFFSETTO:+0900
TZNAME:JST
DTSTART:20250101T000000
END:STANDARD
END:VTIMEZONE
BEGIN:VEVENT
DTSTART;TZID=Asia/Tokyo:20250126T140000
DTEND;TZID=Asia/Tokyo:20250126T160000
DTSTAMP:20260423T090857
CREATED:20241203T073455Z
LAST-MODIFIED:20241203T073455Z
UID:17228-1737900000-1737907200@organic-restaurant.jp
SUMMARY:「季節を感じる身体*季節に応じた食べ方」イントロ講座
DESCRIPTION:
URL:https://organic-restaurant.jp/wp/event/seasonsintro250126/
CATEGORIES:イントロダクション
END:VEVENT
END:VCALENDAR