BEGIN:VCALENDAR
VERSION:2.0
PRODID:-//一般社団法人日本オーガニックレストラン協会 - ECPv5.7.1//NONSGML v1.0//EN
CALSCALE:GREGORIAN
METHOD:PUBLISH
X-WR-CALNAME:一般社団法人日本オーガニックレストラン協会
X-ORIGINAL-URL:https://organic-restaurant.jp/wp
X-WR-CALDESC:一般社団法人日本オーガニックレストラン協会 のイベント
BEGIN:VTIMEZONE
TZID:Asia/Tokyo
BEGIN:STANDARD
TZOFFSETFROM:+0900
TZOFFSETTO:+0900
TZNAME:JST
DTSTART:20240101T000000
END:STANDARD
END:VTIMEZONE
BEGIN:VEVENT
DTSTART;TZID=Asia/Tokyo:20241208T100000
DTEND;TZID=Asia/Tokyo:20241208T120000
DTSTAMP:20260423T074238
CREATED:20241024T003038Z
LAST-MODIFIED:20241204T004053Z
UID:17135-1733652000-1733659200@organic-restaurant.jp
SUMMARY:2024「JORAオリジナルおせちセミナー」
DESCRIPTION:新しい年を「JORAのおせち」でスタートしよう♩ \n \nJORAのオリジナルおせちレシピで、今までとは少し違う「手作りおせち」に挑戦してみませんか？ \n永久保存版のスペシャルセミナー「JORAオリジナルおせち」１品ごとのレシピ動画を視ながら、インストラクターが解説しナビゲートいたします。 \n \n\nこの時期になると、スーパーや百貨店、有名飲食店が販売している「おせち」のチラシを目にします。 \n「手間がかかるから」「普段作らないメニューで作り慣れていない」 \nという理由からおせちを注文する方が多くなってきたのではないでしょうか？ \nしかし・・・市販のおせちは、日持ちさせるため・安定した味にするために、当然のように、砂糖がたくさん使われていたり、化学調味料が使われています。・・・。 \n「カラダにやさしい安心して食べられる “おせち” がいいな」「やっぱり手作り出来たら、うれしい！しかも簡単に！」 \nそう考えるあなたへ♩ \nJORAのおせちは、いたってシンプル！あっという間に何品も作れます。そして、日常で使えるメニューもたくさんあります。 \nさらに！！JORAのおせちは、「砂糖を使いません」これって、とっても画期的です。 \n\n■ JORAのオリジナルおせちレシピの特徴 ■ \n\n　・砂糖を使わない　・豆や野菜がたっぷり　・彩りが華やか　・ノンジャンルの様々なオリジナルメニュー \n\n「JORAオリジナルおせちレシピ」\nPART1のメニュー１．牡蠣のグラタン２．JORA風伊達巻３．ごまめ４．チキンセロリサラダ５．かぼちゃのサラダ６．ゆず釜ゆり根きんとん７．洋風なます８．鶏手羽と根菜の煮込み９．蒸し豚10．和野菜ラタトゥイユ11．黒豆のメープルシロップ煮 \nPART2のメニュー１．ポーチドフィッシュ・梅のソース２．焼きパプリカの冷製３．八ツ頭（里芋）の煮物４．白菜の甘酢漬け５．長ネギのマリネ６．魚のピクルス・ブルスケッタ７．ポテトのオムレツ８．人参の白和え番外編 その１. 座禅豆番外編 その２. お雑煮 \n  \nおせちセミナーに申し込む \n\n「おせち作り」こんな風に思っていませんか？ \n\n・普段作らないメニューだから、私に出来るかな？・そもそも、おせち作りに苦手意識がある・時間と手間がかかりそう・せっかく作っても、家族があまり喜ばない・子供がおせちを食べてくれない・甘くて濃い味付けが苦手・たくさん作っても、濃い味に飽きてしまう・あまり砂糖を使いたくない・化学調味料を使わずに、美味しく作りたい \n\n「JORAのおせちセミナー」で実現できること \n\n・手間をかけずに作ることができる砂糖を使わずおいしくできる黒豆レシピは必見！大量の砂糖を使わないと美味しくできないという黒豆煮の概念が覆ります。 \n \n・飽きることなく食べられる和にとらわれない、いろんなジャンルのメニューがあり砂糖を使わないので、甘ったるくなく、味付けも濃すぎないので食べ飽きることがありません。 \n・たくさん食べても、体に負担がかからない砂糖、化学調味料を使わないので、胃腸に負担がありません。野菜や豆をたくさん使うので、栄養が十分に摂れて体も快適です。 \n・安心して食べられる自分で作るからこそ、安心できる食材や調味料を選べます。 \n \n・日常にも使いたくなるレシピ食材を変えれば、様々にアレンジでき、おせち以外にも応用がきくレシピです。 \n \n・すぐに教えてあげられる簡単レシピお友だちにも教えてあげたくなる、簡単で、シンプルで、おいしいレシピです。 \n・見た目が華やかいままでのおせちにはない、新感覚のメニューがいっぱいで、とても華やかなので、目でも楽しむことができます。 \n \n\n「JORAのおせち」で、こんなことが得られます \n\n・家族が笑顔になる手作りの美味しい料理で、家族とでも、ひとりおせちでも、気持ちを豊かにしてくれます。 \n・罪悪感なく家族におせちを出せる自分で選んだ食材・調味料で、砂糖や化学調味料を使わずに作るので体に負担がかからず、安心して食べられます。 \n・お正月太りの心配から解放される豆や野菜をたくさん使うので、たくさん頂いてもからだが軽く、安心です。 \n・JORAの新感覚おせちで、会話が盛り上がるめずらしいおせちメニューに、会話が弾むこと間違いなしです。一緒に食べる人と「食べることの大切さ」について語る時間を持つこともできます。 \n新春は、このような新感覚の「JORAオリジナルおせち」を、是非お楽しみください。 \n  \nおせちセミナーでは、インストラクターが、それぞれのレシピ動画について解説をいたします。JORAのシステム化のエッセンスがたっぷりと詰まった内容となっています♩ \n例えば、レシピの材料を変えることによってメニューバリエーションを増やす方法や、多めに作って別のアレンジ料理にする方法などのアドバイスをお聴きいただけます。 \n例）PART2のレシピ「長ネギのマリネ」マリネの作り方をマスターすれば、長ネギの代わりに、〇〇、〇〇、〇〇、などを使うことで、あなたの毎日のメニューが一気に増えます♩このレシピには、「ネギが嫌いだった子どもが、おかわりをした」というエピソードもあります。 \n \n例)　PART2の「ポーチドフィッシュ・梅のソース」今回は、お正月なので、おめでたい魚「鰆」を使用していますが、鰆以外にオススメの魚の種類を紹介しています。特にKIYOがおすすめすする魚は、〇〇♩ \n他にも、・手間いらずな、魚の調理法「ポーチ」について知ることで食卓に魚が登場する頻度が高まったり・ポーチ繋がりで、「ポーチドエッグ」の作り方のコツなどなど、話が広がっていきます。 \n \nレシピ動画の間の、解説コメントは必聴です！料理上手になる人が続出の、JORA料理の秘訣をふんだんにお持ち帰りいただけること間違いなしです。 \nオーガニックレストラン「キヨズキッチン」のオーナーだったKIYOならではの、アイデアたっぷりのメニュー、様々な食材の活かし方、おいしく作るためのアドバイス。シンプルな調理法を知り、おせちにとどまらず、あなたの日々のお料理のレパートリーを増やしてください。 \n■講師一般社団法人日本オーガニックレストラン協会/JORA　代表理事 KIYO（南清貴）フードプロデューサー \n1995年、渋谷区・代々木上原に日本初の本格的オーガニックレストラン「キヨズキッチン」を開業。最新の栄養学を料理の中心に据え、自然食やマクロビオティックとは一線を画した創作料理を考案・提供し業界やマスコミからも注目を浴びる。一般社団法人日本オーガニックレストラン協会にて「オプティマル クッキングアカデミー」を主宰し、家庭料理のシステム化の普及に取り組んでいる。食と健康に関する講演活動、執筆活動、全国のレストラン、カフェなどの業態開発、企業内社員食堂やクリニック・ホテル・スパなどのフードメニュー開発にも力を注ぐ。 \n著書には、販売部数15万部を突破した「行ってはいけない外食」（三笠書房）youtubeでオリエンタルラジオ中田敦彦氏に取り上げられた「40歳からは食べてはいけない病気になる食べもの」（KADOKAWA）をはじめ「じつは怖い外食」(ワニブックスPLUS新書)「究極の食」（講談社）「頭のいい人は亜麻仁油を飲んでいる」(講談社biz)等　計28冊がある。最新刊は「男子厨房に入るべし」(ワニブックスPLUS新書) \n\n■ナビゲーター一般社団法人日本オーガニックレストラン協会オプティマルクッキングマスター 福島美雪 \n福島美雪 プロフィール\nオプティマルクッキングマスタ一（ー般社団法人日本オーガニックレストラン協会公認）40歳を目前に、JORA（日本オーガニックレストラン協会）のオプティマルクッキングアカデミーで学ぶ。\n最新の栄養学に則った食べ方や、食材をいかす調理法を習得し、実践を継続することで花粉症の改善など大きな体調の変化を得て、食べるものでカラダが造られていることを実感する。\n年齢に関係なく、体調が良く、気持ちも前向きになりイキイキと生活ができるのは、心身ともに健康であるから。\nもっと沢山の人にこのメソッドを知ってもらいたいと思い講師の資格を取得。短時間で美味しいオーガニック料理を作る方法をオプティマルクッキングアカデミーを通して伝えている。\n  \n■日時PART1　・・・　2024年 12月 1日(日) 10:00～12:00PART1　・・・　2024年 12月 1日(日) 20:00～22:00PART2　・・・　2024年 12月 8日(日) 10:00～12:00PART2　・・・　2024年 12月 8日(日) 20:00～22:00 PART1　・・・　2024年 12月15日(日) 20:00～22:00※オンラインZOOMによるセミナー形式 \n■受講料【 PART1・PART2 どちらか片方のみ受講の場合 】一般：11\,000円JORA受講生：7\,700円 \n【 PART1とPART2  両方受講の場合 】一般：17\,000円JORA受講生：12\,000円 \n※１ヶ月間 アーカイブ視聴可能※ レシピは PDFにて配布します \nお申し込みは↓下記↓よりお願いいたします \nおせちセミナーに申し込む \n  \n 
URL:https://organic-restaurant.jp/wp/event/osechi20241208/
CATEGORIES:特別セミナー
END:VEVENT
END:VCALENDAR