BEGIN:VCALENDAR
VERSION:2.0
PRODID:-//一般社団法人日本オーガニックレストラン協会 - ECPv5.7.1//NONSGML v1.0//EN
CALSCALE:GREGORIAN
METHOD:PUBLISH
X-WR-CALNAME:一般社団法人日本オーガニックレストラン協会
X-ORIGINAL-URL:https://organic-restaurant.jp/wp
X-WR-CALDESC:一般社団法人日本オーガニックレストラン協会 のイベント
BEGIN:VTIMEZONE
TZID:Asia/Tokyo
BEGIN:STANDARD
TZOFFSETFROM:+0900
TZOFFSETTO:+0900
TZNAME:JST
DTSTART:20250101T000000
END:STANDARD
END:VTIMEZONE
BEGIN:VEVENT
DTSTART;TZID=Asia/Tokyo:20250817T100000
DTEND;TZID=Asia/Tokyo:20250817T120000
DTSTAMP:20260422T192450
CREATED:20250728T042048Z
LAST-MODIFIED:20250728T042048Z
UID:17889-1755424800-1755432000@organic-restaurant.jp
SUMMARY:JORA式”失敗しない”ぬか漬けを作ろう！2025
DESCRIPTION:乳酸菌で超簡単！～失敗しないぬか漬けをつくろう2025ver.～\n \nオプティマルクッキンアカデミーでは\n提唱している 「オプティマルフードピラミッド」に基づいた食生活の中で、\n「野菜の摂取量のバランスが健康維持のための重要なポイントである」\nと お伝えしています。 \nその立役者が「漬物」です。\n中でも「ぬか漬け」は良い発酵状態 さえキープできれば、\n究極のインスタント食品です。 \n自家製のお漬物が作れるようになると、\nあなたのおうちは\n家庭料理のシステム化の第一歩を歩み出したことになります。 \n\n「ぬか漬け」と聞くと、\n毎日お世話しなくてはならないとか\nすぐにダメにしてしまうかもしれないとか\n思われるかも しれません。 \n出張が多い方でも、ぬか床は いい状態を保ち続けられています。 \n今回は、米ぬかと乳酸菌を使ってのぬか床作りをご紹介します。 \n作ったぬか床は、\n発酵が始まった2～3日後から実際にぬか漬けを 漬けられる状態になります。 \n \n※野菜・糠・乳酸菌・容器をご自身でご準備いただきます。\n購入先等は、セミナーのお支払いが完了次第、ご案内します。 \n～～～～～～～～～～～～～～～～～～～～～～～～～～～～～～～～～～～～～\n■講師\n日本オーガニックレストラン協会公認\nオプティマルクッキングマスター　福島 美雪 \n■開催日時\n2025年8月17日(日)　10:00-12:00\n※アーカイブ視聴あり（視聴期限：3か月） \n■参加費\n一般…5\,500円（税込） →　早割価格…3\,300円（税込）（8/7(木)まで）\nJORA受講生…3\,300円（税込） \n■会場住所\nZoomによるオンライン講座の形で行ないます。\n※オンライン越しに、リアルタイムで講師と一緒に作っていただきます。 \n■ご準備いただくもの\n筆記用具・食材（各自でご用意頂きます。詳細は、お申込み後にご案内致します。当日までにご準備ください。）\n～～～～～～～～～～～～～～～～～～～～～～～～～～～～～～～～～～～～～ \n以前開催して大好評だったぬか漬けセミナーが、オンラインバージョンにリニューアルされました！\nセミナー受講後もグループワークを行いながらぬか床の様子をみながらフォローしますので\n安心してご参加いただけます。 \n  \n\nぬか漬けセミナー25に申し込む \n  \n  \n 
URL:https://organic-restaurant.jp/wp/event/nuka202508/
CATEGORIES:特別セミナー
END:VEVENT
END:VCALENDAR