BEGIN:VCALENDAR
VERSION:2.0
PRODID:-//一般社団法人日本オーガニックレストラン協会 - ECPv5.7.1//NONSGML v1.0//EN
CALSCALE:GREGORIAN
METHOD:PUBLISH
X-WR-CALNAME:一般社団法人日本オーガニックレストラン協会
X-ORIGINAL-URL:https://organic-restaurant.jp/wp
X-WR-CALDESC:一般社団法人日本オーガニックレストラン協会 のイベント
BEGIN:VTIMEZONE
TZID:Asia/Tokyo
BEGIN:STANDARD
TZOFFSETFROM:+0900
TZOFFSETTO:+0900
TZNAME:JST
DTSTART:20190101T000000
END:STANDARD
END:VTIMEZONE
BEGIN:VEVENT
DTSTART;TZID=Asia/Tokyo:20190208T140000
DTEND;TZID=Asia/Tokyo:20190208T160000
DTSTAMP:20260420T175941
CREATED:20181126T065202Z
LAST-MODIFIED:20181202T131714Z
UID:4547-1549634400-1549641600@organic-restaurant.jp
SUMMARY:香川会場　体験セミナー
DESCRIPTION:■開催日時：2019年2月8日（金）\n　　　　　　14：00～16：00　体験セミナー　※開場13：45 \n■会場住所：香川県丸亀市土器町東5丁目6-1　マドリエ丸亀未来館 \n■参加費：3\,000円 \n★このセミナーはお料理を作るセミナーではございません。 \n\n\n  \n\n\n\n\n\n\n\n\n\n\n■お名前 (必須)\n      \n \n\n■ふりがな (必須)\n間にスペースを入れずにご入力ください\n      \n \n\n■住所 (必須)\n郵便番号と住所をご入力ください。\n      \n \n\n■電話番号 (必須)\n      \n \n\n■メールアドレス (必須)\n※携帯電話からお申し込みの方は、info@organic-restaurant.jpの受信設定をお願いします。\n      \n \n\n■メルマガ購読者 (必須)\n下記より選択して下さい。\n---メルマガ購読者ですメルマガ購読者ではありません  \n \n\n■メルマガ登録アドレス\n※メルマガ登録アドレスが、セミナー申込みの際のアドレスと違う方は入力ください。\n      \n \n\n■受講回数 (必須)\n下記より選択して下さい。\n    ---初めての参加２回目３回目以上  \n \n\n■職業\n      \n \n\n■ご参加のきっかけをご入力ください\n      \n \n\n■プライバシーポリシー (必須)\nプライバシーポリシーを読む\n    同意する  \n \n\n■受講にあたっての注意事項 (必須)\n注意事項を読む\n    同意する  \n \n\n※ご注意：お申し込み完了メールが届くまで手続きは完了しません。
URL:https://organic-restaurant.jp/wp/event/kagawataiken_180208/
CATEGORIES:体験セミナー
END:VEVENT
END:VCALENDAR