BEGIN:VCALENDAR
VERSION:2.0
PRODID:-//一般社団法人日本オーガニックレストラン協会 - ECPv5.7.1//NONSGML v1.0//EN
CALSCALE:GREGORIAN
METHOD:PUBLISH
X-WR-CALNAME:一般社団法人日本オーガニックレストラン協会
X-ORIGINAL-URL:https://organic-restaurant.jp/wp
X-WR-CALDESC:一般社団法人日本オーガニックレストラン協会 のイベント
BEGIN:VTIMEZONE
TZID:Asia/Tokyo
BEGIN:STANDARD
TZOFFSETFROM:+0900
TZOFFSETTO:+0900
TZNAME:JST
DTSTART:20240101T000000
END:STANDARD
END:VTIMEZONE
BEGIN:VEVENT
DTSTART;TZID=Asia/Tokyo:20240720T103000
DTEND;TZID=Asia/Tokyo:20240720T133000
DTSTAMP:20260423T151111
CREATED:20240621T025304Z
LAST-MODIFIED:20240621T025304Z
UID:16694-1721471400-1721482200@organic-restaurant.jp
SUMMARY:家庭料理システム化クッキングセミナー@名古屋
DESCRIPTION:
URL:https://organic-restaurant.jp/wp/event/cooking240720/
CATEGORIES:特別セミナー
END:VEVENT
END:VCALENDAR