BEGIN:VCALENDAR
VERSION:2.0
PRODID:-//一般社団法人日本オーガニックレストラン協会 - ECPv5.7.1//NONSGML v1.0//EN
CALSCALE:GREGORIAN
METHOD:PUBLISH
X-WR-CALNAME:一般社団法人日本オーガニックレストラン協会
X-ORIGINAL-URL:https://organic-restaurant.jp/wp
X-WR-CALDESC:一般社団法人日本オーガニックレストラン協会 のイベント
BEGIN:VTIMEZONE
TZID:Asia/Tokyo
BEGIN:STANDARD
TZOFFSETFROM:+0900
TZOFFSETTO:+0900
TZNAME:JST
DTSTART:20250101T000000
END:STANDARD
END:VTIMEZONE
BEGIN:VEVENT
DTSTART;TZID=Asia/Tokyo:20251115T100000
DTEND;TZID=Asia/Tokyo:20251115T113000
DTSTAMP:20260422T192551
CREATED:20251024T034010Z
LAST-MODIFIED:20251024T035257Z
UID:18116-1763200800-1763206200@organic-restaurant.jp
SUMMARY:調味料セミナー25年版
DESCRIPTION:  \n\n\n\n   \n本物の調味料は一味違う！ 家庭料理をワンランクアップさせるための調味料の選び方・使い方 \nJORA調味料セミナー25\n11月15日(土)　10:00～11:30\n11月18日(火)　10:00～11:30\n「何を選んで使ったらよい？」の疑問を解決！ 良質な調味料は、少量で、料理を劇的に変化させます！\n\nこんな方におすすめです \n・食料品売り場に並ぶ調味料。裏を見ると原材料にたくさんの文字。意味を知りたい。\n・ドレッシングや、調合された調味料。購入しても最後まで使い切れず、いつまでも冷蔵庫に・・・ ・安心で安全な調味料選びのポイントは？\n・美味しい料理をつくるための調味料の使い方を知りたい。\n・料理をしたことがないけれど、これからのために色々作れるようになりたい。 \n・手際よく料理ができるようになりたい。 \n・レパートリーを広げて、自分らしい料理を作れるようになりたい。\n・料理を習いたいが、に習いに行く時間がとれない。 \n・添加物はよくないとわかっているけれど、家で簡単に作る方法がわからない。\n\nこのセミナーにご参加いただくと \n・調味料選びのポイントが明確になり、自分のお気に入り調味料を見つけやすくなります。\n・1つの調味料で、何パターンものお料理を作ることができるようになります。 \n・少量の調味料で味を決めるポイントがわかります。\n・料理は難しい、考えるのがたいへん！というお悩みがなくなり、料理を生活の中に取り入れやすくなります。\n・「料理」というコミュニケーションツールが手に入ります。 \n・料理をすることで、食への意識、健康意識が変わります。\n\n■講師：  一般社団法人日本オーガニックレストラン協会  \n家庭料理システム化 インストラクター　隅田敦子 \n   \nプロフィール \n家庭料理システム化インストラクター(一般社団法人日本オーガニックレストラン協会公認)\nお米づくりに携わるようになったことから「食」に対して関心が向くようになるが 普段の食事作りでは、市販の惣菜に頼ることもしばしば。JORAと出会い、解決するために学ぶ中で、 103歳まで長生した自身の祖母の食生活が、JORAの提唱する栄養学「オプティマルフードピラミッド」やお料理と合致していたことに気づき、健康な身体には、適切な栄養バランスでの、加工食品に頼らない家庭料理が大切であることを実感する。またJORAのお料理によって、素材の味がじんわりと身体にしみて身体が喜ぶ感覚も同時に体験する。JORAで学べる「簡単な手順で、美味しく、しかも身体が喜ぶお料理作り」をお伝えしたいと思っています。 \n\n【JORA調味料セミナー25】\n ■日時  ：11/15(土) 10:00～11:30 \n　　　　11/18(火) 10:00～11:30\n■オンラインzoomによるセミナー形式\n■受講料  ： 5\,500円　⇒　早割価格3\,300円  (開催日1週間前まで)　\n■お申し込み ： ↓下記のボタン↓よりお願いいたします。 締め切り　開催日３日前まで\n  \n \n調味料セミナー25に申し込む   \n  \n本物の調味料を知り、あなたのおうちの料理をワンランクアップさせましょう！ \n\n 
URL:https://organic-restaurant.jp/wp/event/choumi-251115/
CATEGORIES:特別セミナー
END:VEVENT
END:VCALENDAR