BEGIN:VCALENDAR
VERSION:2.0
PRODID:-//一般社団法人日本オーガニックレストラン協会 - ECPv5.7.1//NONSGML v1.0//EN
CALSCALE:GREGORIAN
METHOD:PUBLISH
X-WR-CALNAME:一般社団法人日本オーガニックレストラン協会
X-ORIGINAL-URL:https://organic-restaurant.jp/wp
X-WR-CALDESC:一般社団法人日本オーガニックレストラン協会 のイベント
BEGIN:VTIMEZONE
TZID:Asia/Tokyo
BEGIN:STANDARD
TZOFFSETFROM:+0900
TZOFFSETTO:+0900
TZNAME:JST
DTSTART:20240101T000000
END:STANDARD
END:VTIMEZONE
BEGIN:VEVENT
DTSTART;TZID=Asia/Tokyo:20241213T200000
DTEND;TZID=Asia/Tokyo:20241213T213000
DTSTAMP:20260423T074830
CREATED:20241202T031531Z
LAST-MODIFIED:20241215T135246Z
UID:17224-1734120000-1734125400@organic-restaurant.jp
SUMMARY:調味料セミナー24年版
DESCRIPTION:  \n\n 本物の調味料は一味違う！ 家庭料理をワンランクアップさせるための調味料の選び方・使い方 \nJORA調味料セミナー24\n12月13日(金)　20:00～21:30\n「何を選んで使ったらよい？」の疑問を解決！ 良質な調味料は、少量で、料理を劇的に変化させます！\n\nこんな方におすすめです ・食料品売り場に並ぶ調味料。裏を見ると原材料にたくさんの文字。意味を知りたい。  ・ドレッシングや、調合された調味料。購入しても最後まで使い切れず、いつまでも冷蔵庫に・・・ ・安心で安全な調味料選びのポイントは？・美味しい料理をつくるための調味料の使い方を知りたい。 ・料理をしたことがないけれど、これからのために色々作れるようになりたい。  ・手際よく料理ができるようになりたい。  ・レパートリーを広げて、自分らしい料理を作れるようになりたい。  ・料理を習いたいが、に習いに行く時間がとれない。 ・添加物はよくないとわかっているけれど、家で簡単に作る方法がわからない。 \n\nこのセミナーにご参加いただくと  ・調味料選びのポイントが明確になり、自分のお気に入り調味料を見つけやすくなります。 ・1つの調味料で、何パターンものお料理を作ることができるようになります。 ・少量の調味料で味を決めるポイントがわかります。 ・料理は難しい、考えるのがたいへん！というお悩みがなくなり、料理を生活の中に取り入れやすくなります。 ・「料理」というコミュニケーションツールが手に入ります。  ・料理をすることで、食への意識、健康意識が変わります。 \n\n■講師：一般社団法人日本オーガニックレストラン協会オプティマルクッキングマスター 福島美雪 \n福島美雪 プロフィール\nオプティマルクッキングマスタ一（ー般社団法人日本オーガニックレストラン協会公認）40歳を目前に、JORA（日本オーガニックレストラン協会）のオプティマルクッキングアカデミーで学ぶ。\n最新の栄養学に則った食べ方や、食材をいかす調理法を習得し、実践を継続することで花粉症の改善など大きな体調の変化を得て、食べるものでカラダが造られていることを実感する。\n年齢に関係なく、体調が良く、気持ちも前向きになりイキイキと生活ができるのは、心身ともに健康であるから。\nもっと沢山の人にこのメソッドを知ってもらいたいと思い講師の資格を取得。短時間で美味しいオーガニック料理を作る方法をオプティマルクッキングアカデミーを通して伝えている。\n\n【JORA調味料セミナー24】 ■日時  ：12/13(金) 20:00～21:30■オンラインzoomによるセミナー形式■受講料  ： 3\,300円　　■お申し込みは下記よりお願いいたします　■お申し込み ： ↓下記のボタン↓よりお願いいたします。 \n調味料セミナー23に申し込む 本物の調味料を知り、あなたのおうちの料理をワンランクアップさせましょう！ \n\n  \n\n  \n\n 
URL:https://organic-restaurant.jp/wp/event/choumi-241213/
CATEGORIES:特別セミナー
END:VEVENT
END:VCALENDAR