BEGIN:VCALENDAR
VERSION:2.0
PRODID:-//一般社団法人日本オーガニックレストラン協会 - ECPv5.7.1//NONSGML v1.0//EN
CALSCALE:GREGORIAN
METHOD:PUBLISH
X-WR-CALNAME:一般社団法人日本オーガニックレストラン協会
X-ORIGINAL-URL:https://organic-restaurant.jp/wp
X-WR-CALDESC:一般社団法人日本オーガニックレストラン協会 のイベント
BEGIN:VTIMEZONE
TZID:Asia/Tokyo
BEGIN:STANDARD
TZOFFSETFROM:+0900
TZOFFSETTO:+0900
TZNAME:JST
DTSTART:20190101T000000
END:STANDARD
END:VTIMEZONE
BEGIN:VEVENT
DTSTART;TZID=Asia/Tokyo:20191122T140000
DTEND;TZID=Asia/Tokyo:20191122T160000
DTSTAMP:20260421T193908
CREATED:20191028T140556Z
LAST-MODIFIED:20191119T133139Z
UID:5835-1574431200-1574438400@organic-restaurant.jp
SUMMARY:香川会場　体験セミナー
DESCRIPTION:★こちらのセミナーは、お申込みを締め切らせていただきました。 \n■開催日時：2019年11月22日（金）\n　　　　　　14：00～16：00　体験セミナー　※開場 13：45 \n■会場住所：マドリエ丸亀未来館　\n 　　　　　香川県丸亀市土器町東5丁目6-1 \n■参加費：3\,000円 \n　　　　 ◎午前中に開催の『珈琲、紅茶、日本茶セミナー』にご参加の方は\n　　　　　 こちらの体験セミナーは無料とさせていただきます。 \n★このセミナーはお料理を作るセミナーではございません。 \n※テキスト等の手配の関係上、開催1週間前までのお申込みをお願い致します。 \n\n\n  \n\n\n\n\n\n\n\n\n\n\n■お名前 (必須)\n      \n \n\n■ふりがな (必須)\n間にスペースを入れずにご入力ください\n      \n \n\n■住所 (必須)\n郵便番号と住所をご入力ください。\n      \n \n\n■電話番号 (必須)\n      \n \n\n■メールアドレス (必須)\n※携帯電話からお申し込みの方は、info@organic-restaurant.jpの受信設定をお願いします。\n      \n \n\n■メルマガ購読者 (必須)\n下記より選択して下さい。\n---メルマガ購読者ですメルマガ購読者ではありません  \n \n\n■メルマガ登録アドレス\n※メルマガ登録アドレスが、セミナー申込みの際のアドレスと違う方は入力ください。\n      \n \n\n■受講回数 (必須)\n下記より選択して下さい。\n    ---初めての参加２回目３回目以上  \n \n\n■職業\n      \n \n\n■ご参加のきっかけをご入力ください\n      \n \n\n■プライバシーポリシー (必須)\nプライバシーポリシーを読む\n    同意する  \n \n\n■受講にあたっての注意事項 (必須)\n注意事項を読む\n    同意する  \n \n\n※ご注意：お申し込み完了メールが届くまで手続きは完了しません。
URL:https://organic-restaurant.jp/wp/event/%e9%a6%99%e5%b7%9d%e4%bc%9a%e5%a0%b4%e3%80%80%e4%bd%93%e9%a8%93%e3%82%bb%e3%83%9f%e3%83%8a%e3%83%bc/
CATEGORIES:体験セミナー
END:VEVENT
END:VCALENDAR