BEGIN:VCALENDAR
VERSION:2.0
PRODID:-//一般社団法人日本オーガニックレストラン協会 - ECPv5.7.1//NONSGML v1.0//EN
CALSCALE:GREGORIAN
METHOD:PUBLISH
X-WR-CALNAME:一般社団法人日本オーガニックレストラン協会
X-ORIGINAL-URL:https://organic-restaurant.jp/wp
X-WR-CALDESC:一般社団法人日本オーガニックレストラン協会 のイベント
BEGIN:VTIMEZONE
TZID:Asia/Tokyo
BEGIN:STANDARD
TZOFFSETFROM:+0900
TZOFFSETTO:+0900
TZNAME:JST
DTSTART:20190101T000000
END:STANDARD
END:VTIMEZONE
BEGIN:VEVENT
DTSTART;TZID=Asia/Tokyo:20191207T123000
DTEND;TZID=Asia/Tokyo:20191207T153000
DTSTAMP:20260422T105403
CREATED:20191130T031609Z
LAST-MODIFIED:20191130T031609Z
UID:6176-1575721800-1575732600@organic-restaurant.jp
SUMMARY:岡山会場  アドバンスクラス 2
DESCRIPTION:◎アドバンスクラス1とは内容が異なります \n■講師：代表理事　KIYO（南 清貴） \n■開催日時：2019年12月7日（土）　12：30～15：30 \n■会場住所：岡山市北区内（詳細はお申し込み時にご案内致します） \n■ご準備いただくもの ： 筆記用具、エプロン、手をふくタオル\n　　　　　　　　　　　　食器用の布巾と台ふきを1枚ずつ \n※食材、テキスト等の手配の関係上、開催1週間前までのお申込みをお願い致します。 \n■受講資格：上級講座修了生または中級講座を受講中で、上級講座お申込み済みの方 \n■参加費：12\,000円 \n■キャンセルポリシー\n1週間前以降にキャンセルの場合は、材料費の一部をご負担いただきますことをご了承ください。 \n\n  \n\n\n\n\n\n\n\n\n\n\n※アドバンスクラス受講資格：上級講座修了生または中級講座を受講中で、上級講座お申込み済みの方 \n \n\n■お名前 (必須)\n修了証に記載のお名前\n      \n \n\n■電話番号 (必須)\n      \n \n\n■メールアドレス (必須)\n※携帯電話からお申し込みの方は、info@organic-restaurant.jpの受信設定をお願いします。\n      \n \n\n■ご参加のきっかけをご入力ください\n      \n \n\n■プライバシーポリシー (必須)\nプライバシーポリシーを読む\n    同意する  \n \n\n■受講にあたっての注意事項 (必須)\n注意事項を読む\n    同意する  \n \n\n※ご注意：お申し込み完了メールが届くまで手続きは完了しません。
URL:https://organic-restaurant.jp/wp/event/%e5%b2%a1%e5%b1%b1%e4%bc%9a%e5%a0%b4-%e3%82%a2%e3%83%89%e3%83%90%e3%83%b3%e3%82%b9%e3%82%af%e3%83%a9%e3%82%b9-2/
CATEGORIES:特別セミナー
END:VEVENT
END:VCALENDAR