BEGIN:VCALENDAR
VERSION:2.0
PRODID:-//一般社団法人日本オーガニックレストラン協会 - ECPv5.7.1//NONSGML v1.0//EN
CALSCALE:GREGORIAN
METHOD:PUBLISH
X-WR-CALNAME:一般社団法人日本オーガニックレストラン協会
X-ORIGINAL-URL:https://organic-restaurant.jp/wp
X-WR-CALDESC:一般社団法人日本オーガニックレストラン協会 のイベント
BEGIN:VTIMEZONE
TZID:Asia/Tokyo
BEGIN:STANDARD
TZOFFSETFROM:+0900
TZOFFSETTO:+0900
TZNAME:JST
DTSTART:20190101T000000
END:STANDARD
END:VTIMEZONE
BEGIN:VEVENT
DTSTART;TZID=Asia/Tokyo:20190117T103000
DTEND;TZID=Asia/Tokyo:20190117T160000
DTSTAMP:20260423T164354
CREATED:20181017T100234Z
LAST-MODIFIED:20181020T165534Z
UID:4304-1547721000-1547740800@organic-restaurant.jp
SUMMARY:大分会場　JORA 設立4周年 KIYO特別セミナー
DESCRIPTION:JORA設立4周年を記念して初めての開催となります\n『KIYOのオイルセミナー＆体験セミナー』です。 \nセミナーの詳細はこちら＞＞　https://bit.ly/2E7x728 \n～～～～～～～～～～～～～～～～～～～～～～～～～～～～～～～～～～～～～\n■講師：代表理事 KIYO（南 清貴） \n■開催日時：2019年1月17日（木）　10:30〜16:00\n　　　　　　10:30～12:30　①KIYOのオイルセミナー\n　　　　　　14:00～16:00　②オプティマルクッキングアカデミー体験セミナー \n　　　　　　※ご希望の方にはランチ（またはお弁当：1\,200円／税込）を\n　　　　　　　ご用意させていただきます。 \n■会場住所：大分市内（会場調整中） \n■ご準備いただくもの：筆記用具 \n※食材、テキスト等の手配の関係上、開催1週間前までのお申込みをお願い致します。 \n■参加費：①オイルセミナー：3\,500円　※税込\n　　　　　②体験セミナー　：3\,000円　※税込 \n　　　　　①②をセットでお申込みの場合、1\,000円割引となります。 \n■定員：20名様\n定員に満たない場合、開催を見送らせていただく場合がございます。 \n■キャンセルポリシー\n材料手配の関係上、開催1週間前よりキャンセル料が100%発生いたしますことをご了承ください。 \n～～～～～～～～～～～～～～～～～～～～～～～～～～～～～～～～～～～～～\n\n  \n\n\n\n\n\n\n\n\n\n\n■お名前 (必須)\n      \n \n\n■ふりがな (必須)\n間にスペースをいれずにご入力ください\n      \n \n\n■住所 (必須)\n郵便番号と住所をご入力ください。\n      \n \n\n■電話番号 (必須)\n      \n \n\n■メールアドレス (必須)\n※携帯電話からお申し込みの方は、info@organic-restaurant.jpの受信設定をお願いします。\n      \n \n\n■受講番号\n基礎講座修了生のみご入力ください。\n      \n \n\n■ご参加希望セミナー (必須)\n参加を希望されるセミナーを選択してください。\n  ① 10:30～12:30　KIYOのオイルセミナー② 14:00～16:00　体験セミナー \n \n\n■ランチ（またはお弁当） (必須)\n下記より選択して下さい。\n    ---希望する希望しない  \n \n\n■ご参加のきっかけをご入力ください\n      \n \n\n■プライバシーポリシー (必須)\nプライバシーポリシーを読む\n    同意する  \n \n\n■受講にあたっての注意事項 (必須)\n注意事項を読む\n    同意する  \n \n\n※ご注意：お申し込み完了メールが届くまで手続きは完了しません。
URL:https://organic-restaurant.jp/wp/event/%e5%a4%a7%e5%88%86%e4%bc%9a%e5%a0%b4%e3%80%80jora-%e8%a8%ad%e7%ab%8b4%e5%91%a8%e5%b9%b4-kiyo%e7%89%b9%e5%88%a5%e3%82%bb%e3%83%9f%e3%83%8a%e3%83%bc-2/
CATEGORIES:特別セミナー
END:VEVENT
END:VCALENDAR